Workbook

Sheet Data
D1: Welcome to the Snakes and ladders generator! Please type/paste your data into the grid below and then click on the Worksheet tab (bottom left). Your boardgame is now ready to print. | E1: eflsummerschool.wordpress.com
B5: Citation
B6: Game name
B7: Questions (23 max) | C7: Question number on worksheet | D7: Enter your data here | E7: 105 characters max, inc. spaces
B8: 1 | C8: 2 | E8: =LEN(D8) -> 0 | F8: =IF(E8>=106,"You have written too much!", " ")
B9: 2 | C9: 3 | E9: =LEN(D9) -> 0 | F9: =IF(E9>=106,"You have written too much!", " ")
B10: 3 | C10: 4 | E10: =LEN(D10) -> 0 | F10: =IF(E10>=106,"You have written too much!", " ")
B11: 4 | C11: 5 | E11: =LEN(D11) -> 0 | F11: =IF(E11>=106,"You have written too much!", " ")
B12: 5 | C12: 7 | E12: =LEN(D12) -> 0 | F12: =IF(E12>=106,"You have written too much!", " ")
B13: 6 | C13: 8 | E13: =LEN(D13) -> 0 | F13: =IF(E13>=106,"You have written too much!", " ")
B14: 7 | C14: 10 | E14: =LEN(D14) -> 0 | F14: =IF(E14>=106,"You have written too much!", " ")
B15: 8 | C15: 11 | E15: =LEN(D15) -> 0 | F15: =IF(E15>=106,"You have written too much!", " ")
B16: 9 | C16: 16 | E16: =LEN(D16) -> 0 | F16: =IF(E16>=106,"You have written too much!", " ")
B17: 10 | C17: 17 | E17: =LEN(D17) -> 0 | F17: =IF(E17>=106,"You have written too much!", " ")
B18: 11 | C18: 19 | E18: =LEN(D18) -> 0 | F18: =IF(E18>=106,"You have written too much!", " ")
B19: 12 | C19: 20 | E19: =LEN(D19) -> 0 | F19: =IF(E19>=106,"You have written too much!", " ")
... B30: 23 | C30: 44 | E30: =LEN(D30) -> 0 | F30: =IF(E30>=106,"You have written too much!", " ")

Sheet Worksheet
D2: Snakes and ladders
D4: =IF(Data!D6="","", "(" & Data!D6 & ")")
D5: =IF(Data!D5="","","(Source: " & Data!D5 & ")")
B8: =Data!$C28 & ". " & Data!$D28 -> 41. | C8: ="42. " -> 42. | D8: =Data!$C29 & ". " & Data!$D29 -> 43. | E8: =Data!$C30 & ". " & Data!$D30 -> 44. | F8: FINISH
B9: ="40. " -> 40. | C9: ="39. " -> 39. | D9: ="38. " -> 38. | E9: ="37. " -> 37. | F9: =Data!$C27 & ". " & Data!$D27 -> 36.
B10: ="31. " -> 31. | C10: =Data!$C24 & ". " & Data!$D24 -> 32. | D10: =Data!$C25 & ". " & Data!$D25 -> 33. | E10: ="34. " -> 34. | F10: =Data!$C26 & ". " & Data!$D26 -> 35.
B11: ="30. " -> 30. | C11: =Data!$C23 & ". " & Data!$D23 -> 29. | D11: ="28. " -> 28. | E11: =Data!$C22 & ". " & Data!$D22 -> 27. | F11: ="26. " -> 26.
B12: ="21. " -> 21. | C12: =Data!$C20 & ". " & Data!$D20 -> 22. | D12: ="23. " -> 23. | E12: =Data!$C21 & ". " & Data!$D21 -> 24. | F12: ="25. " -> 25.
B13: =Data!$C19 & ". " & Data!$D19 -> 20. | C13: =Data!$C18 & ". " & Data!$D18 -> 19. | D13: ="18. " -> 18. | E13: =Data!$C17 & ". " & Data!$D17 -> 17. | F13: =Data!$C16 & ". " & Data!$D16 -> 16.
B14: =Data!$C15 & ". " & Data!$D15 -> 11. | C14: ="12. " -> 12. | D14: ="13. " -> 13. | E14: ="14. " -> 14. | F14: ="15. " -> 15.
B15: =Data!$C14 & ". " & Data!$D14 -> 10. | C15: ="9. " -> 9. | D15: =Data!$C13 & ". " & Data!$D13 -> 8. | E15: =Data!$C12 & ". " & Data!$D12 -> 7. | F15: ="6. " -> 6.
B16: START | C16: =Data!$C8 & ". " & Data!$D8 -> 2. | D16: =Data!$C9 & ". " & Data!$D9 -> 3. | E16: =Data!C10 & ". " & Data!D10 -> 4. | F16: =Data!$C11 & ". " & Data!$D11 -> 5.
B17: eflsummerschool.wordpress.com

Sheet Rules
B1: Rules
B4: · Each player requires a counter on the start position.
B5: · Each game requires dice, although a coin could be used as a substitute (heads moves 1 space; tails moves three spaces).
B6: · The object of the game is to move from the start square to the finish square.
B7: · Each player roles their dice moving incrementally up the board.
B8: · If a player lands on a square at the foot of a pair of ladders, they are permitted to climb to the square at the top of the ladders.
B9: · If a player land on the head of a snake, they slide down to the square at its tail.
B10: · Players who land on a square with a question/task, must answer before completing their go.
