Workbook

Sheet Data
F1: eflsummerschool.wordpress.com
D2: Welcome to the Board game generator! Please type/paste your questions and answers into the grid below or leave this area blank to autogenerate questions. When you are ready, click on the Boardgame tab (bottom left). Your Board game is now ready to print.
B6: Citation
B7: Game name
B8: Questions (18 max) | D8: Enter your questions here | E8: Enter your answers here | F8: Questions. 112 characters max (including spaces) | G8: Answers. 32 characters max (including spaces)
B9: 1 | F9: =LEN(D9) -> 0 | G9: =LEN(E9) -> 0
B10: 2 | F10: =LEN(D10) -> 0 | G10: =LEN(E10) -> 0
B11: 3 | F11: =LEN(D11) -> 0 | G11: =LEN(E11) -> 0
B12: 4 | F12: =LEN(D12) -> 0 | G12: =LEN(E12) -> 0
B13: 5 | F13: =LEN(D13) -> 0 | G13: =LEN(E13) -> 0
B14: 6 | F14: =LEN(D14) -> 0 | G14: =LEN(E14) -> 0
B15: 7 | F15: =LEN(D15) -> 0 | G15: =LEN(E15) -> 0
B16: 8 | F16: =LEN(D16) -> 0 | G16: =LEN(E16) -> 0
B17: 9 | F17: =LEN(D17) -> 0 | G17: =LEN(E17) -> 0
B18: 10 | F18: =LEN(D18) -> 0 | G18: =LEN(E18) -> 0
B19: 11 | F19: =LEN(D19) -> 0 | G19: =LEN(E19) -> 0
B20: 12 | F20: =LEN(D20) -> 0 | G20: =LEN(E20) -> 0
... B26: 18 | F26: =LEN(D26) -> 0 | G26: =LEN(E26) -> 0

Sheet Boardgame
K1: =IF(Data!$D$7="","", "(" & Data!$D$7 & ")") | R1: Board game
K4: =IF(Data!$D$6="","","(Source: " & Data!$D$6 & ")") | R4: (European capital cities)
B7: Start | I7: Go back 5 spaces | L7: =IF(Data!D18="", "10. " & LEFT(TRIM('Auto-questions'!D11),FIND("~",SUBSTITUTE('Auto-questions'!D11," ","~",LEN(TRIM('Auto-questions'!D11))-LEN(SUBSTITUTE(TRIM('Auto-questions'!D11)," ",""))))-1),"10. " & Data!D18) -> 10. What is the capital of San Marino? | S7: Finish
C10: =IF(Data!D9="", "1. " & LEFT(TRIM('Auto-questions'!D2),FIND("~",SUBSTITUTE('Auto-questions'!D2," ","~",LEN(TRIM('Auto-questions'!D2))-LEN(SUBSTITUTE(TRIM('Auto-questions'!D2)," ",""))))-1),"1. " & Data!D9) -> 1. What is the capital of Estonia? | H10: =IF(Data!D17="", "9. " & LEFT(TRIM('Auto-questions'!D10),FIND("~",SUBSTITUTE('Auto-questions'!D10," ","~",LEN(TRIM('Auto-questions'!D10))-LEN(SUBSTITUTE(TRIM('Auto-questions'!D10)," ",""))))-1),"9. " & Data!D17) -> 9. What is the capital of Belgium? | M10: =IF(Data!D19="", "11. " & LEFT(TRIM('Auto-questions'!D12),FIND("~",SUBSTITUTE('Auto-questions'!D12," ","~",LEN(TRIM('Auto-questions'!D12))-LEN(SUBSTITUTE(TRIM('Auto-questions'!D12)," ",""))))-1),"11. " & Data!D19) -> 11. What is the capital of Greece? | R10: =IF(Data!D26="", "18. " & LEFT(TRIM('Auto-questions'!D19),FIND("~",SUBSTITUTE('Auto-questions'!D19," ","~",LEN(TRIM('Auto-questions'!D19))-LEN(SUBSTITUTE(TRIM('Auto-questions'!D19)," ",""))))-1),"18. " & Data!D26) -> 18. What is the capital of Monaco?
D13: =IF(Data!D10="", "2. " & LEFT(TRIM('Auto-questions'!D3),FIND("~",SUBSTITUTE('Auto-questions'!D3," ","~",LEN(TRIM('Auto-questions'!D3))-LEN(SUBSTITUTE(TRIM('Auto-questions'!D3)," ",""))))-1),"2. " & Data!D10) -> 2. What is the capital of the Netherlands? | I13: =IF(Data!D16="", "8. " & LEFT(TRIM('Auto-questions'!D9),FIND("~",SUBSTITUTE('Auto-questions'!D9," ","~",LEN(TRIM('Auto-questions'!D9))-LEN(SUBSTITUTE(TRIM('Auto-questions'!D9)," ",""))))-1),"8. " & Data!D16) -> 8. What is the capital of Estonia? | N13: =IF(Data!D20="", "12. " & LEFT(TRIM('Auto-questions'!D13),FIND("~",SUBSTITUTE('Auto-questions'!D13," ","~",LEN(TRIM('Auto-questions'!D13))-LEN(SUBSTITUTE(TRIM('Auto-questions'!D13)," ",""))))-1),"12. " & Data!D20) -> 12. What is the capital of Ukraine? | S13: =IF(Data!D25="", "17. " & LEFT(TRIM('Auto-questions'!D18),FIND("~",SUBSTITUTE('Auto-questions'!D18," ","~",LEN(TRIM('Auto-questions'!D18))-LEN(SUBSTITUTE(TRIM('Auto-questions'!D18)," ",""))))-1),"17. " & Data!D25) -> 17. What is the capital of Bulgaria?
C16: =IF(Data!D11="", "3. " & LEFT(TRIM('Auto-questions'!D4),FIND("~",SUBSTITUTE('Auto-questions'!D4," ","~",LEN(TRIM('Auto-questions'!D4))-LEN(SUBSTITUTE(TRIM('Auto-questions'!D4)," ",""))))-1),"3. " & Data!D11) -> 3. What is the capital of Azerbaijan? | H16: Go forward 2 spaces | M16: =IF(Data!D21="", "13. " & LEFT(TRIM('Auto-questions'!D14),FIND("~",SUBSTITUTE('Auto-questions'!D14," ","~",LEN(TRIM('Auto-questions'!D14))-LEN(SUBSTITUTE(TRIM('Auto-questions'!D14)," ",""))))-1),"13. " & Data!D21) -> 13. What is the capital of France? | R16: Go back 5 spaces
D19: =IF(Data!D12="", "4. " & LEFT(TRIM('Auto-questions'!D5),FIND("~",SUBSTITUTE('Auto-questions'!D5," ","~",LEN(TRIM('Auto-questions'!D5))-LEN(SUBSTITUTE(TRIM('Auto-questions'!D5)," ",""))))-1),"4. " & Data!D12) -> 4. What is the capital of Monaco? | I19: =IF(Data!D15="", "7. " & LEFT(TRIM('Auto-questions'!D8),FIND("~",SUBSTITUTE('Auto-questions'!D8," ","~",LEN(TRIM('Auto-questions'!D8))-LEN(SUBSTITUTE(TRIM('Auto-questions'!D8)," ",""))))-1),"7. " & Data!D15) -> 7. What is the capital of Estonia? | N19: =IF(Data!D22="", "14. " & LEFT(TRIM('Auto-questions'!D15),FIND("~",SUBSTITUTE('Auto-questions'!D15," ","~",LEN(TRIM('Auto-questions'!D15))-LEN(SUBSTITUTE(TRIM('Auto-questions'!D15)," ",""))))-1),"14. " & Data!D22) -> 14. What is the capital of Poland? | S19: =IF(Data!D24="", "16. " & LEFT(TRIM('Auto-questions'!D17),FIND("~",SUBSTITUTE('Auto-questions'!D17," ","~",LEN(TRIM('Auto-questions'!D17))-LEN(SUBSTITUTE(TRIM('Auto-questions'!D17)," ",""))))-1),"16. " & Data!D24) -> 16. What is the capital of Belgium?
E22: =IF(Data!D13="", "5. " & LEFT(TRIM('Auto-questions'!D6),FIND("~",SUBSTITUTE('Auto-questions'!D6," ","~",LEN(TRIM('Auto-questions'!D6))-LEN(SUBSTITUTE(TRIM('Auto-questions'!D6)," ",""))))-1),"5. " & Data!D13) -> 5. What is the capital of Belgium? | H22: =IF(Data!D14="", "6. " & LEFT(TRIM('Auto-questions'!D7),FIND("~",SUBSTITUTE('Auto-questions'!D7," ","~",LEN(TRIM('Auto-questions'!D7))-LEN(SUBSTITUTE(TRIM('Auto-questions'!D7)," ",""))))-1),"6. " & Data!D14) -> 6. What is the capital of Bosnia and Herzegovina? | O22: Go forward 2 spaces | R22: =IF(Data!D23="", "15. " & LEFT(TRIM('Auto-questions'!D16),FIND("~",SUBSTITUTE('Auto-questions'!D16," ","~",LEN(TRIM('Auto-questions'!D16))-LEN(SUBSTITUTE(TRIM('Auto-questions'!D16)," ",""))))-1),"15. " & Data!D23) -> 15. What is the capital of Vatican City?
C26: =IF(Data!E9="", "1. " & IF(ISERR(FIND(" ",'Auto-questions'!D2)),"",RIGHT('Auto-questions'!D2,LEN('Auto-questions'!D2)-FIND("*",SUBSTITUTE('Auto-questions'!D2," ","*",LEN('Auto-questions'!D2)-LEN(SUBSTITUTE('Auto-questions'!D2," ","")))))),"1. " & Data!E9) -> 1. Tallinn | F26: =IF(Data!E12="", "4. " & IF(ISERR(FIND(" ",'Auto-questions'!D5)),"",RIGHT('Auto-questions'!D5,LEN('Auto-questions'!D5)-FIND("*",SUBSTITUTE('Auto-questions'!D5," ","*",LEN('Auto-questions'!D5)-LEN(SUBSTITUTE('Auto-questions'!D5," ","")))))),"4. " & Data!E12) -> 4. Monaco | I26: =IF(Data!E15="", "7. " & IF(ISERR(FIND(" ",'Auto-questions'!D8)),"",RIGHT('Auto-questions'!D8,LEN('Auto-questions'!D8)-FIND("*",SUBSTITUTE('Auto-questions'!D8," ","*",LEN('Auto-questions'!D8)-LEN(SUBSTITUTE('Auto-questions'!D8," ","")))))),"7. " & Data!E15) -> 7. Tallinn | L26: =IF(Data!E18="", "10. " & IF(ISERR(FIND(" ",'Auto-questions'!D11)),"",RIGHT('Auto-questions'!D11,LEN('Auto-questions'!D11)-FIND("*",SUBSTITUTE('Auto-questions'!D11," ","*",LEN('Auto-questions'!D11)-LEN(SUBSTITUTE('Auto-questions'!D11," ","")))))),"10. " & Data!E18) -> 10. San_Marino | O26: =IF(Data!E21="", "13. " & IF(ISERR(FIND(" ",'Auto-questions'!D14)),"",RIGHT('Auto-questions'!D14,LEN('Auto-questions'!D14)-FIND("*",SUBSTITUTE('Auto-questions'!D14," ","*",LEN('Auto-questions'!D14)-LEN(SUBSTITUTE('Auto-questions'!D14," ","")))))),"13. " & Data!E21) -> 13. Paris | R26: =IF(Data!E24="", "16. " & IF(ISERR(FIND(" ",'Auto-questions'!D17)),"",RIGHT('Auto-questions'!D17,LEN('Auto-questions'!D17)-FIND("*",SUBSTITUTE('Auto-questions'!D17," ","*",LEN('Auto-questions'!D17)-LEN(SUBSTITUTE('Auto-questions'!D17," ","")))))),"16. " & Data!E24) -> 16. Brussels
C27: =IF(Data!E10="", "2. " & IF(ISERR(FIND(" ",'Auto-questions'!D3)),"",RIGHT('Auto-questions'!D3,LEN('Auto-questions'!D3)-FIND("*",SUBSTITUTE('Auto-questions'!D3," ","*",LEN('Auto-questions'!D3)-LEN(SUBSTITUTE('Auto-questions'!D3," ","")))))),"2. " & Data!E10) -> 2. Amsterdam/The_Hague | F27: =IF(Data!E13="", "5. " & IF(ISERR(FIND(" ",'Auto-questions'!D6)),"",RIGHT('Auto-questions'!D6,LEN('Auto-questions'!D6)-FIND("*",SUBSTITUTE('Auto-questions'!D6," ","*",LEN('Auto-questions'!D6)-LEN(SUBSTITUTE('Auto-questions'!D6," ","")))))),"5. " & Data!E13) -> 5. Brussels | I27: =IF(Data!E16="", "8. " & IF(ISERR(FIND(" ",'Auto-questions'!D9)),"",RIGHT('Auto-questions'!D9,LEN('Auto-questions'!D9)-FIND("*",SUBSTITUTE('Auto-questions'!D9," ","*",LEN('Auto-questions'!D9)-LEN(SUBSTITUTE('Auto-questions'!D9," ","")))))),"8. " & Data!E16) -> 8. Tallinn | L27: =IF(Data!E19="", "11. " & IF(ISERR(FIND(" ",'Auto-questions'!D12)),"",RIGHT('Auto-questions'!D12,LEN('Auto-questions'!D12)-FIND("*",SUBSTITUTE('Auto-questions'!D12," ","*",LEN('Auto-questions'!D12)-LEN(SUBSTITUTE('Auto-questions'!D12," ","")))))),"11. " & Data!E19) -> 11. Athens | O27: =IF(Data!E22="", "14. " & IF(ISERR(FIND(" ",'Auto-questions'!D15)),"",RIGHT('Auto-questions'!D15,LEN('Auto-questions'!D15)-FIND("*",SUBSTITUTE('Auto-questions'!D15," ","*",LEN('Auto-questions'!D15)-LEN(SUBSTITUTE('Auto-questions'!D15," ","")))))),"14. " & Data!E22) -> 14. Warsaw | R27: =IF(Data!E25="", "17. " & IF(ISERR(FIND(" ",'Auto-questions'!D18)),"",RIGHT('Auto-questions'!D18,LEN('Auto-questions'!D18)-FIND("*",SUBSTITUTE('Auto-questions'!D18," ","*",LEN('Auto-questions'!D18)-LEN(SUBSTITUTE('Auto-questions'!D18," ","")))))),"17. " & Data!E25) -> 17. Sofia
C28: =IF(Data!E11="", "3. " & IF(ISERR(FIND(" ",'Auto-questions'!D4)),"",RIGHT('Auto-questions'!D4,LEN('Auto-questions'!D4)-FIND("*",SUBSTITUTE('Auto-questions'!D4," ","*",LEN('Auto-questions'!D4)-LEN(SUBSTITUTE('Auto-questions'!D4," ","")))))),"3. " & Data!E11) -> 3. Baku | F28: =IF(Data!E14="", "6. " & IF(ISERR(FIND(" ",'Auto-questions'!D7)),"",RIGHT('Auto-questions'!D7,LEN('Auto-questions'!D7)-FIND("*",SUBSTITUTE('Auto-questions'!D7," ","*",LEN('Auto-questions'!D7)-LEN(SUBSTITUTE('Auto-questions'!D7," ","")))))),"6. " & Data!E14) -> 6. Sarajevo | I28: =IF(Data!E17="", "9. " & IF(ISERR(FIND(" ",'Auto-questions'!D10)),"",RIGHT('Auto-questions'!D10,LEN('Auto-questions'!D10)-FIND("*",SUBSTITUTE('Auto-questions'!D10," ","*",LEN('Auto-questions'!D10)-LEN(SUBSTITUTE('Auto-questions'!D10," ","")))))),"9. " & Data!E17) -> 9. Brussels | L28: =IF(Data!E20="", "12. " & IF(ISERR(FIND(" ",'Auto-questions'!D13)),"",RIGHT('Auto-questions'!D13,LEN('Auto-questions'!D13)-FIND("*",SUBSTITUTE('Auto-questions'!D13," ","*",LEN('Auto-questions'!D13)-LEN(SUBSTITUTE('Auto-questions'!D13," ","")))))),"12. " & Data!E20) -> 12. Kyiv | O28: =IF(Data!E23="", "15. " & IF(ISERR(FIND(" ",'Auto-questions'!D16)),"",RIGHT('Auto-questions'!D16,LEN('Auto-questions'!D16)-FIND("*",SUBSTITUTE('Auto-questions'!D16," ","*",LEN('Auto-questions'!D16)-LEN(SUBSTITUTE('Auto-questions'!D16," ","")))))),"15. " & Data!E23) -> 15. Vatican_City | R28: =IF(Data!E26="", "18. " & IF(ISERR(FIND(" ",'Auto-questions'!D19)),"",RIGHT('Auto-questions'!D19,LEN('Auto-questions'!D19)-FIND("*",SUBSTITUTE('Auto-questions'!D19," ","*",LEN('Auto-questions'!D19)-LEN(SUBSTITUTE('Auto-questions'!D19," ","")))))),"18. " & Data!E26) -> 18. Monaco
B29: eflsummerschool.wordpress.com

Sheet How to use the generator
B2: How to use the generator
B3: 1. If the grid on the Data sheet is left empty, the Boardgame will automatically generate questions and answers from the Auto-questions.
B4: 2. Manually entering questions and answers into the designated cells in columns D and E on the Data sheet will override and stop the generator automatically using the Auto-questions source to create a new game.
B5: 3. By selecting all (CTRL A) on the Boardgame tab and then copying (CTRL C) and pasting the values (right mouse button and select 'values' under Paste Options), the Boardgame currently in view will be permanantly set. This will remove all coding and prevent any further changes.

Sheet Rules of the game
B2: The rules of the game
B3: 1. Each player needs a counter placed on the Start position.
B4: 2. The answers at the bottom of the page should be covered for the duration of the game. Answers can be checked afterwards.
B5: 3. Each game requires a dice. The dice is rolled and the player moves accordingly. A coin could substitute dice with heads moving one space and tails moving 3 spaces.
B6: 4. The aim of the game is for players to move from Start to Finish.
B7: 5. Each player moves incrementally around the board answering the questions as they go. If a player lands on Go forward 2 spaces or Go back 5 spaces, they are expected to follow the command.
B8: 6. The first player to reach the Finish position is declared the winner.

Sheet Auto-questions
A1: Number | B1: Questions and answers | C1: Random number | D1: Random phrase | E1: Deleting or changing any of the data on this worksheet may prevent the generator from working properly.
A2: 1 | B2: What is the capital of Andorra? Andorra_la_Vella | C2: =RANDBETWEEN(1,49) -> 13 | D2: =INDEX(B:B,MATCH(C2,A:A,0)) -> What is the capital of Estonia? Tallinn
A3: 2 | B3: What is the capital of Armenia? Yerevan | C3: =RANDBETWEEN(1,49) -> 33 | D3: =INDEX(B:B,MATCH(C3,A:A,0)) -> What is the capital of the Netherlands? Amsterdam/The_Hague
A4: 3 | B4: What is the capital of Austria? Vienna | C4: =RANDBETWEEN(1,49) -> 4 | D4: =INDEX(B:B,MATCH(C4,A:A,0)) -> What is the capital of Azerbaijan? Baku
A5: 4 | B5: What is the capital of Azerbaijan? Baku | C5: =RANDBETWEEN(1,49) -> 31 | D5: =INDEX(B:B,MATCH(C5,A:A,0)) -> What is the capital of Monaco? Monaco
A6: 5 | B6: What is the capital of Belarus? Minsk | C6: =RANDBETWEEN(1,49) -> 6 | D6: =INDEX(B:B,MATCH(C6,A:A,0)) -> What is the capital of Belgium? Brussels
A7: 6 | B7: What is the capital of Belgium? Brussels | C7: =RANDBETWEEN(1,49) -> 7 | D7: =INDEX(B:B,MATCH(C7,A:A,0)) -> What is the capital of Bosnia and Herzegovina? Sarajevo
A8: 7 | B8: What is the capital of Bosnia and Herzegovina? Sarajevo | C8: =RANDBETWEEN(1,49) -> 13 | D8: =INDEX(B:B,MATCH(C8,A:A,0)) -> What is the capital of Estonia? Tallinn
A9: 8 | B9: What is the capital of Bulgaria? Sofia | C9: =RANDBETWEEN(1,49) -> 13 | D9: =INDEX(B:B,MATCH(C9,A:A,0)) -> What is the capital of Estonia? Tallinn
A10: 9 | B10: What is the capital of Croatia? Zagreb | C10: =RANDBETWEEN(1,49) -> 6 | D10: =INDEX(B:B,MATCH(C10,A:A,0)) -> What is the capital of Belgium? Brussels
A11: 10 | B11: What is the capital of Cyprus? Nicosia | C11: =RANDBETWEEN(1,49) -> 39 | D11: =INDEX(B:B,MATCH(C11,A:A,0)) -> What is the capital of San Marino? San_Marino
A12: 11 | B12: What is the capital of Czech Republic? Prague | C12: =RANDBETWEEN(1,49) -> 18 | D12: =INDEX(B:B,MATCH(C12,A:A,0)) -> What is the capital of Greece? Athens
A13: 12 | B13: What is the capital of Denmark? Copenhagen | C13: =RANDBETWEEN(1,49) -> 47 | D13: =INDEX(B:B,MATCH(C13,A:A,0)) -> What is the capital of Ukraine? Kyiv
... A50: 49 | B50: What is the capital of Vatican City? Vatican_City | C50: =RANDBETWEEN(1,49) -> 5 | D50: =INDEX(B:B,MATCH(C50,A:A,0)) -> What is the capital of Belarus? Minsk
