Workbook

Sheet Data
C2: Welcome to the Jumbled sentences generator! Please type/paste your sentences into the grid below. When you are ready, click on the Worksheet tab (bottom left). Your Worksheet is now ready to print. | D2: eflsummerschool.wordpress.com
B6: Citation:
B7: Game name:
B8: Sentences (10 max) | C8: Enter your sentences here | D8: Words: 35 characters max (including spaces) | E8: Text: 250 characters max (including spaces)
F9: 11 | G9: 8 | H9: 16 | I9: 13 | J9: 5 | K9: 22 | L9: 20 | M9: 3 | N9: 33 | O9: 14 | P9: 31 | Q9: 26 | R9: 25 | S9: 23 | T9: 29 | U9: 21 | V9: 15 | W9: 32 | X9: 18 | Y9: 30 | Z9: 28 | AA9: 27 | AB9: 34 | AC9: 24 | AD9: 19 | AE9: 35 | AF9: 2 | AG9: 7 | AH9: 6 | AI9: 1 | AJ9: 9 | AK9: 4 | AL9: 10 | AM9: 17 | AN9: 12
F10: 5 | G10: 30 | H10: 32 | I10: 4 | J10: 6 | K10: 24 | L10: 31 | M10: 1 | N10: 29 | O10: 34 | P10: 28 | Q10: 23 | R10: 21 | S10: 11 | T10: 17 | U10: 35 | V10: 3 | W10: 15 | X10: 13 | Y10: 9 | Z10: 20 | AA10: 18 | AB10: 25 | AC10: 33 | AD10: 12 | AE10: 19 | AF10: 26 | AG10: 7 | AH10: 2 | AI10: 22 | AJ10: 14 | AK10: 10 | AL10: 27 | AM10: 8 | AN10: 16
F11: 5 | G11: 13 | H11: 12 | I11: 7 | J11: 21 | K11: 15 | L11: 14 | M11: 31 | N11: 22 | O11: 9 | P11: 24 | Q11: 28 | R11: 26 | S11: 2 | T11: 33 | U11: 17 | V11: 25 | W11: 3 | X11: 34 | Y11: 16 | Z11: 10 | AA11: 6 | AB11: 11 | AC11: 29 | AD11: 30 | AE11: 35 | AF11: 23 | AG11: 4 | AH11: 18 | AI11: 20 | AJ11: 8 | AK11: 27 | AL11: 19 | AM11: 1 | AN11: 32
F12: 2 | G12: 31 | H12: 22 | I12: 21 | J12: 18 | K12: 14 | L12: 32 | M12: 4 | N12: 3 | O12: 30 | P12: 28 | Q12: 8 | R12: 10 | S12: 16 | T12: 33 | U12: 17 | V12: 25 | W12: 11 | X12: 15 | Y12: 12 | Z12: 26 | AA12: 19 | AB12: 5 | AC12: 27 | AD12: 24 | AE12: 9 | AF12: 7 | AG12: 35 | AH12: 13 | AI12: 1 | AJ12: 6 | AK12: 34 | AL12: 20 | AM12: 23 | AN12: 29
F13: 8 | G13: 7 | H13: 3 | I13: 4 | J13: 11 | K13: 31 | L13: 25 | M13: 2 | N13: 10 | O13: 18 | P13: 22 | Q13: 24 | R13: 1 | S13: 19 | T13: 12 | U13: 5 | V13: 29 | W13: 20 | X13: 16 | Y13: 15 | Z13: 32 | AA13: 34 | AB13: 28 | AC13: 17 | AD13: 13 | AE13: 26 | AF13: 6 | AG13: 21 | AH13: 14 | AI13: 23 | AJ13: 9 | AK13: 27 | AL13: 30 | AM13: 35 | AN13: 33
F14: 14 | G14: 28 | H14: 21 | I14: 4 | J14: 15 | K14: 22 | L14: 25 | M14: 2 | N14: 30 | O14: 7 | P14: 33 | Q14: 27 | R14: 16 | S14: 23 | T14: 26 | U14: 5 | V14: 10 | W14: 19 | X14: 8 | Y14: 13 | Z14: 34 | AA14: 17 | AB14: 29 | AC14: 20 | AD14: 3 | AE14: 24 | AF14: 32 | AG14: 18 | AH14: 31 | AI14: 12 | AJ14: 6 | AK14: 1 | AL14: 35 | AM14: 9 | AN14: 11
F15: 22 | G15: 17 | H15: 24 | I15: 7 | J15: 27 | K15: 26 | L15: 32 | M15: 13 | N15: 19 | O15: 10 | P15: 1 | Q15: 31 | R15: 21 | S15: 20 | T15: 34 | U15: 4 | V15: 3 | W15: 11 | X15: 23 | Y15: 28 | Z15: 5 | AA15: 9 | AB15: 12 | AC15: 18 | AD15: 14 | AE15: 8 | AF15: 16 | AG15: 15 | AH15: 29 | AI15: 35 | AJ15: 33 | AK15: 2 | AL15: 25 | AM15: 6 | AN15: 30
F16: 7 | G16: 25 | H16: 3 | I16: 35 | J16: 19 | K16: 21 | L16: 8 | M16: 20 | N16: 4 | O16: 28 | P16: 27 | Q16: 23 | R16: 31 | S16: 1 | T16: 14 | U16: 10 | V16: 24 | W16: 22 | X16: 2 | Y16: 33 | Z16: 9 | AA16: 17 | AB16: 34 | AC16: 11 | AD16: 16 | AE16: 15 | AF16: 32 | AG16: 12 | AH16: 18 | AI16: 5 | AJ16: 29 | AK16: 13 | AL16: 30 | AM16: 26 | AN16: 6
F17: 29 | G17: 23 | H17: 12 | I17: 2 | J17: 19 | K17: 35 | L17: 4 | M17: 16 | N17: 30 | O17: 32 | P17: 26 | Q17: 21 | R17: 8 | S17: 27 | T17: 24 | U17: 6 | V17: 20 | W17: 7 | X17: 3 | Y17: 9 | Z17: 22 | AA17: 13 | AB17: 1 | AC17: 15 | AD17: 11 | AE17: 17 | AF17: 14 | AG17: 25 | AH17: 34 | AI17: 18 | AJ17: 33 | AK17: 31 | AL17: 28 | AM17: 5 | AN17: 10
F18: 6 | G18: 8 | H18: 22 | I18: 16 | J18: 32 | K18: 13 | L18: 11 | M18: 5 | N18: 17 | O18: 28 | P18: 27 | Q18: 19 | R18: 15 | S18: 21 | T18: 9 | U18: 14 | V18: 34 | W18: 2 | X18: 12 | Y18: 25 | Z18: 24 | AA18: 20 | AB18: 3 | AC18: 26 | AD18: 10 | AE18: 1 | AF18: 29 | AG18: 4 | AH18: 31 | AI18: 33 | AJ18: 7 | AK18: 30 | AL18: 23 | AM18: 35 | AN18: 18
B19: 1 | D19: =IF(LEN(TRIM(C19))=0,0,LEN(TRIM(C19))-LEN(SUBSTITUTE(C19," ",""))+1) -> 0 | E19: =LEN(C19) -> 0 | F19: =TRIM(MID(SUBSTITUTE($C$19," ",REPT(" ",LEN($C$19))), (F$9-1)*LEN($C$19)+1, LEN($C$19))) | G19: =TRIM(MID(SUBSTITUTE($C$19," ",REPT(" ",LEN($C$19))), (G$9-1)*LEN($C$19)+1, LEN($C$19))) | H19: =TRIM(MID(SUBSTITUTE($C$19," ",REPT(" ",LEN($C$19))), (H$9-1)*LEN($C$19)+1, LEN($C$19))) | I19: =TRIM(MID(SUBSTITUTE($C$19," ",REPT(" ",LEN($C$19))), (I$9-1)*LEN($C$19)+1, LEN($C$19))) | J19: =TRIM(MID(SUBSTITUTE($C$19," ",REPT(" ",LEN($C$19))), (J$9-1)*LEN($C$19)+1, LEN($C$19))) | K19: =TRIM(MID(SUBSTITUTE($C$19," ",REPT(" ",LEN($C$19))), (K$9-1)*LEN($C$19)+1, LEN($C$19))) | L19: =TRIM(MID(SUBSTITUTE($C$19," ",REPT(" ",LEN($C$19))), (L$9-1)*LEN($C$19)+1, LEN($C$19))) | M19: =TRIM(MID(SUBSTITUTE($C$19," ",REPT(" ",LEN($C$19))), (M$9-1)*LEN($C$19)+1, LEN($C$19))) | ... AN19: =TRIM(MID(SUBSTITUTE($C$19," ",REPT(" ",LEN($C$19))), (AN$9-1)*LEN($C$19)+1, LEN($C$19)))
B20: 2 | D20: =IF(LEN(TRIM(C20))=0,0,LEN(TRIM(C20))-LEN(SUBSTITUTE(C20," ",""))+1) -> 0 | E20: =LEN(C20) -> 0 | F20: =TRIM(MID(SUBSTITUTE($C$20," ",REPT(" ",LEN($C$20))), (F$10-1)*LEN($C$20)+1, LEN($C$20))) | G20: =TRIM(MID(SUBSTITUTE($C$20," ",REPT(" ",LEN($C$20))), (G$10-1)*LEN($C$20)+1, LEN($C$20))) | H20: =TRIM(MID(SUBSTITUTE($C$20," ",REPT(" ",LEN($C$20))), (H$10-1)*LEN($C$20)+1, LEN($C$20))) | I20: =TRIM(MID(SUBSTITUTE($C$20," ",REPT(" ",LEN($C$20))), (I$10-1)*LEN($C$20)+1, LEN($C$20))) | J20: =TRIM(MID(SUBSTITUTE($C$20," ",REPT(" ",LEN($C$20))), (J$10-1)*LEN($C$20)+1, LEN($C$20))) | K20: =TRIM(MID(SUBSTITUTE($C$20," ",REPT(" ",LEN($C$20))), (K$10-1)*LEN($C$20)+1, LEN($C$20))) | L20: =TRIM(MID(SUBSTITUTE($C$20," ",REPT(" ",LEN($C$20))), (L$10-1)*LEN($C$20)+1, LEN($C$20))) | M20: =TRIM(MID(SUBSTITUTE($C$20," ",REPT(" ",LEN($C$20))), (M$10-1)*LEN($C$20)+1, LEN($C$20))) | ... AN20: =TRIM(MID(SUBSTITUTE($C$20," ",REPT(" ",LEN($C$20))), (AN$10-1)*LEN($C$20)+1, LEN($C$20)))
B21: 3 | D21: =IF(LEN(TRIM(C21))=0,0,LEN(TRIM(C21))-LEN(SUBSTITUTE(C21," ",""))+1) -> 0 | E21: =LEN(C21) -> 0 | F21: =TRIM(MID(SUBSTITUTE($C$21," ",REPT(" ",LEN($C$21))), (F$11-1)*LEN($C$21)+1, LEN($C$21))) | G21: =TRIM(MID(SUBSTITUTE($C$21," ",REPT(" ",LEN($C$21))), (G$11-1)*LEN($C$21)+1, LEN($C$21))) | H21: =TRIM(MID(SUBSTITUTE($C$21," ",REPT(" ",LEN($C$21))), (H$11-1)*LEN($C$21)+1, LEN($C$21))) | I21: =TRIM(MID(SUBSTITUTE($C$21," ",REPT(" ",LEN($C$21))), (I$11-1)*LEN($C$21)+1, LEN($C$21))) | J21: =TRIM(MID(SUBSTITUTE($C$21," ",REPT(" ",LEN($C$21))), (J$11-1)*LEN($C$21)+1, LEN($C$21))) | K21: =TRIM(MID(SUBSTITUTE($C$21," ",REPT(" ",LEN($C$21))), (K$11-1)*LEN($C$21)+1, LEN($C$21))) | L21: =TRIM(MID(SUBSTITUTE($C$21," ",REPT(" ",LEN($C$21))), (L$11-1)*LEN($C$21)+1, LEN($C$21))) | M21: =TRIM(MID(SUBSTITUTE($C$21," ",REPT(" ",LEN($C$21))), (M$11-1)*LEN($C$21)+1, LEN($C$21))) | ... AN21: =TRIM(MID(SUBSTITUTE($C$21," ",REPT(" ",LEN($C$21))), (AN$11-1)*LEN($C$21)+1, LEN($C$21)))
B22: 4 | D22: =IF(LEN(TRIM(C22))=0,0,LEN(TRIM(C22))-LEN(SUBSTITUTE(C22," ",""))+1) -> 0 | E22: =LEN(C22) -> 0 | F22: =TRIM(MID(SUBSTITUTE($C$22," ",REPT(" ",LEN($C$22))), (F$12-1)*LEN($C$22)+1, LEN($C$22))) | G22: =TRIM(MID(SUBSTITUTE($C$22," ",REPT(" ",LEN($C$22))), (G$12-1)*LEN($C$22)+1, LEN($C$22))) | H22: =TRIM(MID(SUBSTITUTE($C$22," ",REPT(" ",LEN($C$22))), (H$12-1)*LEN($C$22)+1, LEN($C$22))) | I22: =TRIM(MID(SUBSTITUTE($C$22," ",REPT(" ",LEN($C$22))), (I$12-1)*LEN($C$22)+1, LEN($C$22))) | J22: =TRIM(MID(SUBSTITUTE($C$22," ",REPT(" ",LEN($C$22))), (J$12-1)*LEN($C$22)+1, LEN($C$22))) | K22: =TRIM(MID(SUBSTITUTE($C$22," ",REPT(" ",LEN($C$22))), (K$12-1)*LEN($C$22)+1, LEN($C$22))) | L22: =TRIM(MID(SUBSTITUTE($C$22," ",REPT(" ",LEN($C$22))), (L$12-1)*LEN($C$22)+1, LEN($C$22))) | M22: =TRIM(MID(SUBSTITUTE($C$22," ",REPT(" ",LEN($C$22))), (M$12-1)*LEN($C$22)+1, LEN($C$22))) | ... AN22: =TRIM(MID(SUBSTITUTE($C$22," ",REPT(" ",LEN($C$22))), (AN$12-1)*LEN($C$22)+1, LEN($C$22)))
B23: 5 | D23: =IF(LEN(TRIM(C23))=0,0,LEN(TRIM(C23))-LEN(SUBSTITUTE(C23," ",""))+1) -> 0 | E23: =LEN(C23) -> 0 | F23: =TRIM(MID(SUBSTITUTE($C$23," ",REPT(" ",LEN($C$23))), (F$13-1)*LEN($C$23)+1, LEN($C$23))) | G23: =TRIM(MID(SUBSTITUTE($C$23," ",REPT(" ",LEN($C$23))), (G$13-1)*LEN($C$23)+1, LEN($C$23))) | H23: =TRIM(MID(SUBSTITUTE($C$23," ",REPT(" ",LEN($C$23))), (H$13-1)*LEN($C$23)+1, LEN($C$23))) | I23: =TRIM(MID(SUBSTITUTE($C$23," ",REPT(" ",LEN($C$23))), (I$13-1)*LEN($C$23)+1, LEN($C$23))) | J23: =TRIM(MID(SUBSTITUTE($C$23," ",REPT(" ",LEN($C$23))), (J$13-1)*LEN($C$23)+1, LEN($C$23))) | K23: =TRIM(MID(SUBSTITUTE($C$23," ",REPT(" ",LEN($C$23))), (K$13-1)*LEN($C$23)+1, LEN($C$23))) | L23: =TRIM(MID(SUBSTITUTE($C$23," ",REPT(" ",LEN($C$23))), (L$13-1)*LEN($C$23)+1, LEN($C$23))) | M23: =TRIM(MID(SUBSTITUTE($C$23," ",REPT(" ",LEN($C$23))), (M$13-1)*LEN($C$23)+1, LEN($C$23))) | ... AN23: =TRIM(MID(SUBSTITUTE($C$23," ",REPT(" ",LEN($C$23))), (AN$13-1)*LEN($C$23)+1, LEN($C$23)))
B24: 6 | D24: =IF(LEN(TRIM(C24))=0,0,LEN(TRIM(C24))-LEN(SUBSTITUTE(C24," ",""))+1) -> 0 | E24: =LEN(C24) -> 0 | F24: =TRIM(MID(SUBSTITUTE($C$24," ",REPT(" ",LEN($C$24))), (F$14-1)*LEN($C$24)+1, LEN($C$24))) | G24: =TRIM(MID(SUBSTITUTE($C$24," ",REPT(" ",LEN($C$24))), (G$14-1)*LEN($C$24)+1, LEN($C$24))) | H24: =TRIM(MID(SUBSTITUTE($C$24," ",REPT(" ",LEN($C$24))), (H$14-1)*LEN($C$24)+1, LEN($C$24))) | I24: =TRIM(MID(SUBSTITUTE($C$24," ",REPT(" ",LEN($C$24))), (I$14-1)*LEN($C$24)+1, LEN($C$24))) | J24: =TRIM(MID(SUBSTITUTE($C$24," ",REPT(" ",LEN($C$24))), (J$14-1)*LEN($C$24)+1, LEN($C$24))) | K24: =TRIM(MID(SUBSTITUTE($C$24," ",REPT(" ",LEN($C$24))), (K$14-1)*LEN($C$24)+1, LEN($C$24))) | L24: =TRIM(MID(SUBSTITUTE($C$24," ",REPT(" ",LEN($C$24))), (L$14-1)*LEN($C$24)+1, LEN($C$24))) | M24: =TRIM(MID(SUBSTITUTE($C$24," ",REPT(" ",LEN($C$24))), (M$14-1)*LEN($C$24)+1, LEN($C$24))) | ... AN24: =TRIM(MID(SUBSTITUTE($C$24," ",REPT(" ",LEN($C$24))), (AN$14-1)*LEN($C$24)+1, LEN($C$24)))
B25: 7 | D25: =IF(LEN(TRIM(C25))=0,0,LEN(TRIM(C25))-LEN(SUBSTITUTE(C25," ",""))+1) -> 0 | E25: =LEN(C25) -> 0 | F25: =TRIM(MID(SUBSTITUTE($C$25," ",REPT(" ",LEN($C$25))), (F$15-1)*LEN($C$25)+1, LEN($C$25))) | G25: =TRIM(MID(SUBSTITUTE($C$25," ",REPT(" ",LEN($C$25))), (G$15-1)*LEN($C$25)+1, LEN($C$25))) | H25: =TRIM(MID(SUBSTITUTE($C$25," ",REPT(" ",LEN($C$25))), (H$15-1)*LEN($C$25)+1, LEN($C$25))) | I25: =TRIM(MID(SUBSTITUTE($C$25," ",REPT(" ",LEN($C$25))), (I$15-1)*LEN($C$25)+1, LEN($C$25))) | J25: =TRIM(MID(SUBSTITUTE($C$25," ",REPT(" ",LEN($C$25))), (J$15-1)*LEN($C$25)+1, LEN($C$25))) | K25: =TRIM(MID(SUBSTITUTE($C$25," ",REPT(" ",LEN($C$25))), (K$15-1)*LEN($C$25)+1, LEN($C$25))) | L25: =TRIM(MID(SUBSTITUTE($C$25," ",REPT(" ",LEN($C$25))), (L$15-1)*LEN($C$25)+1, LEN($C$25))) | M25: =TRIM(MID(SUBSTITUTE($C$25," ",REPT(" ",LEN($C$25))), (M$15-1)*LEN($C$25)+1, LEN($C$25))) | ... AN25: =TRIM(MID(SUBSTITUTE($C$25," ",REPT(" ",LEN($C$25))), (AN$15-1)*LEN($C$25)+1, LEN($C$25)))
B26: 8 | D26: =IF(LEN(TRIM(C26))=0,0,LEN(TRIM(C26))-LEN(SUBSTITUTE(C26," ",""))+1) -> 0 | E26: =LEN(C26) -> 0 | F26: =TRIM(MID(SUBSTITUTE($C$26," ",REPT(" ",LEN($C$26))), (F$16-1)*LEN($C$26)+1, LEN($C$26))) | G26: =TRIM(MID(SUBSTITUTE($C$26," ",REPT(" ",LEN($C$26))), (G$16-1)*LEN($C$26)+1, LEN($C$26))) | H26: =TRIM(MID(SUBSTITUTE($C$26," ",REPT(" ",LEN($C$26))), (H$16-1)*LEN($C$26)+1, LEN($C$26))) | I26: =TRIM(MID(SUBSTITUTE($C$26," ",REPT(" ",LEN($C$26))), (I$16-1)*LEN($C$26)+1, LEN($C$26))) | J26: =TRIM(MID(SUBSTITUTE($C$26," ",REPT(" ",LEN($C$26))), (J$16-1)*LEN($C$26)+1, LEN($C$26))) | K26: =TRIM(MID(SUBSTITUTE($C$26," ",REPT(" ",LEN($C$26))), (K$16-1)*LEN($C$26)+1, LEN($C$26))) | L26: =TRIM(MID(SUBSTITUTE($C$26," ",REPT(" ",LEN($C$26))), (L$16-1)*LEN($C$26)+1, LEN($C$26))) | M26: =TRIM(MID(SUBSTITUTE($C$26," ",REPT(" ",LEN($C$26))), (M$16-1)*LEN($C$26)+1, LEN($C$26))) | ... AN26: =TRIM(MID(SUBSTITUTE($C$26," ",REPT(" ",LEN($C$26))), (AN$16-1)*LEN($C$26)+1, LEN($C$26)))
B27: 9 | D27: =IF(LEN(TRIM(C27))=0,0,LEN(TRIM(C27))-LEN(SUBSTITUTE(C27," ",""))+1) -> 0 | E27: =LEN(C27) -> 0 | F27: =TRIM(MID(SUBSTITUTE($C$27," ",REPT(" ",LEN($C$27))), (F$17-1)*LEN($C$27)+1, LEN($C$27))) | G27: =TRIM(MID(SUBSTITUTE($C$27," ",REPT(" ",LEN($C$27))), (G$17-1)*LEN($C$27)+1, LEN($C$27))) | H27: =TRIM(MID(SUBSTITUTE($C$27," ",REPT(" ",LEN($C$27))), (H$17-1)*LEN($C$27)+1, LEN($C$27))) | I27: =TRIM(MID(SUBSTITUTE($C$27," ",REPT(" ",LEN($C$27))), (I$17-1)*LEN($C$27)+1, LEN($C$27))) | J27: =TRIM(MID(SUBSTITUTE($C$27," ",REPT(" ",LEN($C$27))), (J$17-1)*LEN($C$27)+1, LEN($C$27))) | K27: =TRIM(MID(SUBSTITUTE($C$27," ",REPT(" ",LEN($C$27))), (K$17-1)*LEN($C$27)+1, LEN($C$27))) | L27: =TRIM(MID(SUBSTITUTE($C$27," ",REPT(" ",LEN($C$27))), (L$17-1)*LEN($C$27)+1, LEN($C$27))) | M27: =TRIM(MID(SUBSTITUTE($C$27," ",REPT(" ",LEN($C$27))), (M$17-1)*LEN($C$27)+1, LEN($C$27))) | ... AN27: =TRIM(MID(SUBSTITUTE($C$27," ",REPT(" ",LEN($C$27))), (AN$17-1)*LEN($C$27)+1, LEN($C$27)))
B28: 10 | D28: =IF(LEN(TRIM(C28))=0,0,LEN(TRIM(C28))-LEN(SUBSTITUTE(C28," ",""))+1) -> 0 | E28: =LEN(C28) -> 0 | F28: =TRIM(MID(SUBSTITUTE($C$28," ",REPT(" ",LEN($C$28))), (F$18-1)*LEN($C$28)+1, LEN($C$28))) | G28: =TRIM(MID(SUBSTITUTE($C$28," ",REPT(" ",LEN($C$28))), (G$18-1)*LEN($C$28)+1, LEN($C$28))) | H28: =TRIM(MID(SUBSTITUTE($C$28," ",REPT(" ",LEN($C$28))), (H$18-1)*LEN($C$28)+1, LEN($C$28))) | I28: =TRIM(MID(SUBSTITUTE($C$28," ",REPT(" ",LEN($C$28))), (I$18-1)*LEN($C$28)+1, LEN($C$28))) | J28: =TRIM(MID(SUBSTITUTE($C$28," ",REPT(" ",LEN($C$28))), (J$18-1)*LEN($C$28)+1, LEN($C$28))) | K28: =TRIM(MID(SUBSTITUTE($C$28," ",REPT(" ",LEN($C$28))), (K$18-1)*LEN($C$28)+1, LEN($C$28))) | L28: =TRIM(MID(SUBSTITUTE($C$28," ",REPT(" ",LEN($C$28))), (L$18-1)*LEN($C$28)+1, LEN($C$28))) | M28: =TRIM(MID(SUBSTITUTE($C$28," ",REPT(" ",LEN($C$28))), (M$18-1)*LEN($C$28)+1, LEN($C$28))) | ... AN28: =TRIM(MID(SUBSTITUTE($C$28," ",REPT(" ",LEN($C$28))), (AN$18-1)*LEN($C$28)+1, LEN($C$28)))

Sheet Worksheet
B2: =IF(Data!C7="","", "(" & Data!C7 & ")") | C2: Jumbled sentences
B4: =IF(Data!C6="","","(Source: " & Data!C6 & ")")
B7: Put the words in the correct order:
B8: =IF(Data!C19= "","", "1. " & TRIM(Data!F19 & " " & Data!G19 & " " & Data!H19 & " " & Data!I19 & " " & Data!J19 & " " & Data!K19 & " " & Data!L19 & " " & Data!M19 & " " & Data!N19 & " " & Data!O19 & " " & Data!P19 & " " & Data!Q19 & " " & Data!R19 & " " & Data!S19 & " " & Data!T19 & " " & Data!U19 & " " & Data!V19 & " " & Data!W19 & " " & Data!X19 & " " & Data!Y19 & " " & Data!Z19 & " " & Data!AA19 & " " & Data!AB19 & " " & Data!AC19 & " " & Data!AD19 & " " & Data!AE19 & " " & Data!AF19 & " " & Data!AG19 & " " & Data!AH19 & " " & Data!AI19 & " " & Data!AJ19 & " " & Data!AK19 & " " & Data!AL19 & " " & Data!AM19 & " " & Data!AN19))
B9: =IF(Data!C19="", "", ".....................................................................................................................................................................................")
B10: =IF(Data!C19="", "", ".....................................................................................................................................................................................")
B11: =IF(Data!C20= "","", "2. " & TRIM(Data!F20 & " " & Data!G20 & " " & Data!H20 & " " & Data!I20 & " " & Data!J20 & " " & Data!K20 & " " & Data!L20 & " " & Data!M20 & " " & Data!N20 & " " & Data!O20 & " " & Data!P20 & " " & Data!Q20 & " " & Data!R20 & " " & Data!S20 & " " & Data!T20 & " " & Data!U20 & " " & Data!V20 & " " & Data!W20 & " " & Data!X20 & " " & Data!Y20 & " " & Data!Z20 & " " & Data!AA20 & " " & Data!AB20 & " " & Data!AC20 & " " & Data!AD20 & " " & Data!AE20 & " " & Data!AF20 & " " & Data!AG20 & " " & Data!AH20 & " " & Data!AI20 & " " & Data!AJ20 & " " & Data!AK20 & " " & Data!AL20 & " " & Data!AM20 & " " & Data!AN20))
B12: =IF(Data!C20="", "", ".....................................................................................................................................................................................")
B13: =IF(Data!C20="", "", ".....................................................................................................................................................................................")
B14: =IF(Data!C21= "","", "3. " & TRIM(Data!F21 & " " & Data!G21 & " " & Data!H21 & " " & Data!I21 & " " & Data!J21 & " " & Data!K21 & " " & Data!L21 & " " & Data!M21 & " " & Data!N21 & " " & Data!O21 & " " & Data!P21 & " " & Data!Q21 & " " & Data!R21 & " " & Data!S21 & " " & Data!T21 & " " & Data!U21 & " " & Data!V21 & " " & Data!W21 & " " & Data!X21 & " " & Data!Y21 & " " & Data!Z21 & " " & Data!AA21 & " " & Data!AB21 & " " & Data!AC21 & " " & Data!AD21 & " " & Data!AE21 & " " & Data!AF21 & " " & Data!AG21 & " " & Data!AH21 & " " & Data!AI21 & " " & Data!AJ21 & " " & Data!AK21 & " " & Data!AL21 & " " & Data!AM21 & " " & Data!AN21))
B15: =IF(Data!C21="", "", ".....................................................................................................................................................................................")
B16: =IF(Data!C21="", "", ".....................................................................................................................................................................................")
B17: =IF(Data!C22= "","", "4. " & TRIM(Data!F22 & " " & Data!G22 & " " & Data!H22 & " " & Data!I22 & " " & Data!J22 & " " & Data!K22 & " " & Data!L22 & " " & Data!M22 & " " & Data!N22 & " " & Data!O22 & " " & Data!P22 & " " & Data!Q22 & " " & Data!R22 & " " & Data!S22 & " " & Data!T22 & " " & Data!U22 & " " & Data!V22 & " " & Data!W22 & " " & Data!X22 & " " & Data!Y22 & " " & Data!Z22 & " " & Data!AA22 & " " & Data!AB22 & " " & Data!AC22 & " " & Data!AD22 & " " & Data!AE22 & " " & Data!AF22 & " " & Data!AG22 & " " & Data!AH22 & " " & Data!AI22 & " " & Data!AJ22 & " " & Data!AK22 & " " & Data!AL22 & " " & Data!AM22 & " " & Data!AN22))
B18: =IF(Data!C22="", "", ".....................................................................................................................................................................................")
B19: =IF(Data!C22="", "", ".....................................................................................................................................................................................")
B20: =IF(Data!C23= "","", "5. " & TRIM(Data!F23 & " " & Data!G23 & " " & Data!H23 & " " & Data!I23 & " " & Data!J23 & " " & Data!K23 & " " & Data!L23 & " " & Data!M23 & " " & Data!N23 & " " & Data!O23 & " " & Data!P23 & " " & Data!Q23 & " " & Data!R23 & " " & Data!S23 & " " & Data!T23 & " " & Data!U23 & " " & Data!V23 & " " & Data!W23 & " " & Data!X23 & " " & Data!Y23 & " " & Data!Z23 & " " & Data!AA23 & " " & Data!AB23 & " " & Data!AC23 & " " & Data!AD23 & " " & Data!AE23 & " " & Data!AF23 & " " & Data!AG23 & " " & Data!AH23 & " " & Data!AI23 & " " & Data!AJ23 & " " & Data!AK23 & " " & Data!AL23 & " " & Data!AM23 & " " & Data!AN23))
B21: =IF(Data!C23="", "", ".....................................................................................................................................................................................")
B22: =IF(Data!C23="", "", ".....................................................................................................................................................................................")
B23: =IF(Data!C24= "","", "6. " & TRIM(Data!F24 & " " & Data!G24 & " " & Data!H24 & " " & Data!I24 & " " & Data!J24 & " " & Data!K24 & " " & Data!L24 & " " & Data!M24 & " " & Data!N24 & " " & Data!O24 & " " & Data!P24 & " " & Data!Q24 & " " & Data!R24 & " " & Data!S24 & " " & Data!T24 & " " & Data!U24 & " " & Data!V24 & " " & Data!W24 & " " & Data!X24 & " " & Data!Y24 & " " & Data!Z24 & " " & Data!AA24 & " " & Data!AB24 & " " & Data!AC24 & " " & Data!AD24 & " " & Data!AE24 & " " & Data!AF24 & " " & Data!AG24 & " " & Data!AH24 & " " & Data!AI24 & " " & Data!AJ24 & " " & Data!AK24 & " " & Data!AL24 & " " & Data!AM24 & " " & Data!AN24))
B24: =IF(Data!C24="", "", ".....................................................................................................................................................................................")
B25: =IF(Data!C24="", "", ".....................................................................................................................................................................................")
B26: =IF(Data!C25= "","", "7. " & TRIM(Data!F25 & " " & Data!G25 & " " & Data!H25 & " " & Data!I25 & " " & Data!J25 & " " & Data!K25 & " " & Data!L25 & " " & Data!M25 & " " & Data!N25 & " " & Data!O25 & " " & Data!P25 & " " & Data!Q25 & " " & Data!R25 & " " & Data!S25 & " " & Data!T25 & " " & Data!U25 & " " & Data!V25 & " " & Data!W25 & " " & Data!X25 & " " & Data!Y25 & " " & Data!Z25 & " " & Data!AA25 & " " & Data!AB25 & " " & Data!AC25 & " " & Data!AD25 & " " & Data!AE25 & " " & Data!AF25 & " " & Data!AG25 & " " & Data!AH25 & " " & Data!AI25 & " " & Data!AJ25 & " " & Data!AK25 & " " & Data!AL25 & " " & Data!AM25 & " " & Data!AN25))
B27: =IF(Data!C25="", "", ".....................................................................................................................................................................................")
B28: =IF(Data!C25="", "", ".....................................................................................................................................................................................")
B29: =IF(Data!C26= "","", "8. " & TRIM(Data!F26 & " " & Data!G26 & " " & Data!H26 & " " & Data!I26 & " " & Data!J26 & " " & Data!K26 & " " & Data!L26 & " " & Data!M26 & " " & Data!N26 & " " & Data!O26 & " " & Data!P26 & " " & Data!Q26 & " " & Data!R26 & " " & Data!S26 & " " & Data!T26 & " " & Data!U26 & " " & Data!V26 & " " & Data!W26 & " " & Data!X26 & " " & Data!Y26 & " " & Data!Z26 & " " & Data!AA26 & " " & Data!AB26 & " " & Data!AC26 & " " & Data!AD26 & " " & Data!AE26 & " " & Data!AF26 & " " & Data!AG26 & " " & Data!AH26 & " " & Data!AI26 & " " & Data!AJ26 & " " & Data!AK26 & " " & Data!AL26 & " " & Data!AM26 & " " & Data!AN26))
B30: =IF(Data!C26="", "", ".....................................................................................................................................................................................")
B31: =IF(Data!C26="", "", ".....................................................................................................................................................................................")
B32: =IF(Data!C27= "","", "9. " & TRIM(Data!F27 & " " & Data!G27 & " " & Data!H27 & " " & Data!I27 & " " & Data!J27 & " " & Data!K27 & " " & Data!L27 & " " & Data!M27 & " " & Data!N27 & " " & Data!O27 & " " & Data!P27 & " " & Data!Q27 & " " & Data!R27 & " " & Data!S27 & " " & Data!T27 & " " & Data!U27 & " " & Data!V27 & " " & Data!W27 & " " & Data!X27 & " " & Data!Y27 & " " & Data!Z27 & " " & Data!AA27 & " " & Data!AB27 & " " & Data!AC27 & " " & Data!AD27 & " " & Data!AE27 & " " & Data!AF27 & " " & Data!AG27 & " " & Data!AH27 & " " & Data!AI27 & " " & Data!AJ27 & " " & Data!AK27 & " " & Data!AL27 & " " & Data!AM27 & " " & Data!AN27))
B33: =IF(Data!C27="", "", ".....................................................................................................................................................................................")
B34: =IF(Data!C27="", "", ".....................................................................................................................................................................................")
B35: =IF(Data!C28= "","", "10. " & TRIM(Data!F28 & " " & Data!G28 & " " & Data!H28 & " " & Data!I28 & " " & Data!J28 & " " & Data!K28 & " " & Data!L28 & " " & Data!M28 & " " & Data!N28 & " " & Data!O28 & " " & Data!P28 & " " & Data!Q28 & " " & Data!R28 & " " & Data!S28 & " " & Data!T28 & " " & Data!U28 & " " & Data!V28 & " " & Data!W28 & " " & Data!X28 & " " & Data!Y28 & " " & Data!Z28 & " " & Data!AA28 & " " & Data!AB28 & " " & Data!AC28 & " " & Data!AD28 & " " & Data!AE28 & " " & Data!AF28 & " " & Data!AG28 & " " & Data!AH28 & " " & Data!AI28 & " " & Data!AJ28 & " " & Data!AK28 & " " & Data!AL28 & " " & Data!AM28 & " " & Data!AN28))
B36: =IF(Data!C28="", "", ".....................................................................................................................................................................................")
B37: =IF(Data!C28="", "", ".....................................................................................................................................................................................")
B38: eflsummerschool.wordpress.com

Sheet How to use the generator
B2: How to use the generator
B3: 1. Type/paste your sentences into the grid on the Data sheet.
B4: 2. Click on the Worksheet tab (bottom left). Your Worksheet is now ready to print.
B5: 3. By selecting all (CTRL A) on the Worksheet tab and then copying (CTRL C) and pasting the values (right mouse button and select 'values' under Paste Options), the Worksheet currently in view will be permanantly set. This will remove all coding and prevent any further changes.
